BEGIN:VCALENDAR
VERSION:2.0
PRODID:Imitheme.com
BEGIN:VEVENT
UID:20260424T165349-2071969350
DTSTAMP;TZID=UTC:1777049629
DTSTART;TZID=America/Los_Angeles:20250211T000000
DTEND;TZID=America/Los_Angeles:20250211T000000
SUMMARY:Tournament Tuesdays
LOCATION:
DESCRIPTION: Wanna smash, bro? Smash the competition at our Super Smash Bros Tournament! Winners receive a $50 gift card and an invitation to the championship game on March 4 for a chance to win a Nintendo Switch. Tuesday Nights Sign ups start at 7 pm Tournament begins at 9 pm $6 Floral Seltzers $& Hornito Shots $8 -196 Vodka Seltzers * Not an official Nintendo Tournamenthttps://replaylakeview.com/eventer/tournament-tuesdays/
URL:https://replaylakeview.com/eventer/tournament-tuesdays/
END:VEVENT
END:VCALENDAR
