BEGIN:VCALENDAR
VERSION:2.0
PRODID:Imitheme.com
BEGIN:VEVENT
UID:20260424T134551-709273667
DTSTAMP;TZID=UTC:1777038351
DTSTART;TZID=America/Los_Angeles:20250521T000000
DTEND;TZID=America/Los_Angeles:20250521T000000
SUMMARY:Spanglish Karaoke
LOCATION:
DESCRIPTION: Spanglish Karaoke! Sing a Spanish song to be entered to win raffle prizes! Sign ups start at 9pm, raffle at midnight. ¡Spanglish Karaoke! Canta una canción en español para participar en una rifa de premios. Canciones empiezan a las 9p, la rifa es a las 12a Every 3rd Wednesday Cada tercer miércoles Hosted by Niko and Cotto X Replay Lakeview 3439 N Halstedhttps://replaylakeview.com/eventer/spanglish-karaoke/
URL:https://replaylakeview.com/eventer/spanglish-karaoke/
END:VEVENT
END:VCALENDAR
