BEGIN:VCALENDAR
VERSION:2.0
PRODID:Imitheme.com 
BEGIN:VEVENT
UID:20260419T1156581633253876
DTSTAMP;TZID=UTC:2026-04-19 11:56:58
DTSTART;TZID=America/Los_Angeles:20260306T000000
DTEND;TZID=America/Los_Angeles:20260306T000000
SUMMARY:Zara Larsson Keep It Y2K
LOCATION:
DESCRIPTION:Get Zara Larsson concert ready with us. Our Y2K Party is back and we’re bringing in a custom airbrush pop-up so you can get a personalized tee or hat just like the iconic looks Zara loves. 🎨 Custom airbrush shirts & hats 🎧 Y2K hits all night — hip hop, reggaeton, dancehall, juke, R&B & more 🔥 Beats by DJ X-Tasy 🕘 9PM–Midnight 👕 Tees $20 | 🧢 Hats $15 Pull up, get your custom shirt, and show up to the Zara concert in full Y2K fashion. 💿✨ 📍 Replay Lakeview 3439 N Halsted
URL:https://replaylakeview.com/eventer/zara-larsson-keep-it-y2k/
END:VEVENT
END:VCALENDAR
